BEGIN:VCALENDAR
VERSION:2.0
PRODID:GIGPRESS 2.0 WORDPRESS PLUGIN
CALSCALE:GREGORIAN
X-WR-TIMEZONE:Etc/GMT
METHOD:PUBLISH
BEGIN:VTIMEZONE
TZID:GMT
BEGIN:STANDARD
DTSTART:20071028T010000
TZOFFSETTO:+0000
TZOFFSETFROM:+0000
END:STANDARD
END:VTIMEZONE
BEGIN:VEVENT
SUMMARY:Northeastern Pennsylvania Philharmonic at Kirby Park
DESCRIPTION:Price: Free. Notes: <b>Old-Fashioned Fourth of July Celebration</b> All Ages
LOCATION:Kirby Park\, Market St\, Wilkes-Barre\, US
UID:20260704T193000Z-1227-moore.justin@me.com
URL:https://www.mooretrombone.com
DTSTART;VALUE=DATE-TIME;TZID=GMT:20260704T193000Z
DTEND;VALUE=DATE-TIME;TZID=GMT:20260704T193000Z
DTSTAMP:20260420T122353Z
END:VEVENT
END:VCALENDAR