BEGIN:VCALENDAR
VERSION:2.0
PRODID:GIGPRESS 2.0 WORDPRESS PLUGIN
CALSCALE:GREGORIAN
X-WR-TIMEZONE:Etc/GMT
METHOD:PUBLISH
BEGIN:VTIMEZONE
TZID:GMT
BEGIN:STANDARD
DTSTART:20071028T010000
TZOFFSETTO:+0000
TZOFFSETFROM:+0000
END:STANDARD
END:VTIMEZONE
BEGIN:VEVENT
SUMMARY:Northeastern Pennsylvania Philharmonic at Lackawanna County Courthouse
DESCRIPTION:Price: Free. Notes: <b>Scrantastic Spectacular</b> All Ages
LOCATION:Lackawanna County Courthouse\, 200 N Washington Ave\, Scranton\, US
UID:20260703T193000Z-1226-moore.justin@me.com
URL:https://www.mooretrombone.com
DTSTART;VALUE=DATE-TIME;TZID=GMT:20260703T193000Z
DTEND;VALUE=DATE-TIME;TZID=GMT:20260703T193000Z
DTSTAMP:20260422T091240Z
END:VEVENT
END:VCALENDAR