BEGIN:VCALENDAR
VERSION:2.0
PRODID:GIGPRESS 2.0 WORDPRESS PLUGIN
CALSCALE:GREGORIAN
X-WR-TIMEZONE:Etc/GMT
METHOD:PUBLISH
BEGIN:VTIMEZONE
TZID:GMT
BEGIN:STANDARD
DTSTART:20071028T010000
TZOFFSETTO:+0000
TZOFFSETFROM:+0000
END:STANDARD
END:VTIMEZONE
BEGIN:VEVENT
SUMMARY:Andrew Neu Big Band at Kennett JazzFest
DESCRIPTION:
LOCATION:Kennett JazzFest\, Kennett Square\, US
UID:20260425T160000Z-1224-moore.justin@me.com
URL:https://www.mooretrombone.com
DTSTART;VALUE=DATE-TIME;TZID=GMT:20260425T160000Z
DTEND;VALUE=DATE-TIME;TZID=GMT:20260425T160000Z
DTSTAMP:20260420T121741Z
END:VEVENT
END:VCALENDAR