BEGIN:VCALENDAR
VERSION:2.0
PRODID:GIGPRESS 2.0 WORDPRESS PLUGIN
CALSCALE:GREGORIAN
X-WR-TIMEZONE:Etc/GMT
METHOD:PUBLISH
BEGIN:VTIMEZONE
TZID:GMT
BEGIN:STANDARD
DTSTART:20071028T010000
TZOFFSETTO:+0000
TZOFFSETFROM:+0000
END:STANDARD
END:VTIMEZONE
BEGIN:VEVENT
SUMMARY:NJ MasterChorale at Haddonfield United Methodist Church
DESCRIPTION:Price: Free. Notes: <b>To Glory Arise</b> 
LOCATION:Haddonfield United Methodist Church\, 29 Warwick Road\, Haddonfield\, US
UID:20260426T190000Z-1223-moore.justin@me.com
URL:https://www.mooretrombone.com
DTSTART;VALUE=DATE-TIME;TZID=GMT:20260426T190000Z
DTEND;VALUE=DATE-TIME;TZID=GMT:20260426T190000Z
DTSTAMP:20260420T121847Z
END:VEVENT
END:VCALENDAR